BEGIN:VCALENDAR
VERSION:2.0
PRODID:icalendar-ruby
CALSCALE:GREGORIAN
BEGIN:VEVENT
DTSTAMP:20260420T190900Z
UID:73f59167-195d-435c-93ce-723421be204a
DTSTART;TZID=Pacific/Auckland:20260419T110000
DTEND;TZID=Pacific/Auckland:20260419T113000
DESCRIPTION:Property ID# 605868
SUMMARY:Openhome for 1/165 Clarence Street
END:VEVENT
END:VCALENDAR
