BEGIN:VCALENDAR
VERSION:2.0
PRODID:icalendar-ruby
CALSCALE:GREGORIAN
BEGIN:VEVENT
DTSTAMP:20260420T163004Z
UID:e7eb1bf8-d9d8-4ccb-aede-030315c15785
DTSTART;TZID=Pacific/Auckland:20260419T130000
DTEND;TZID=Pacific/Auckland:20260419T133000
DESCRIPTION:Property ID# 605916
SUMMARY:Openhome for 21 Defoe Place
END:VEVENT
END:VCALENDAR
