BEGIN:VCALENDAR
VERSION:2.0
PRODID:icalendar-ruby
CALSCALE:GREGORIAN
BEGIN:VEVENT
DTSTAMP:20260420T165246Z
UID:7e95566c-6718-4f68-a3f9-ea0923144577
DTSTART;VALUE=DATE:20260304
DESCRIPTION:Property ID# 603312\, Time: 1:00PM
SUMMARY:Auction for 1114 Omihi Road
END:VEVENT
END:VCALENDAR
