BEGIN:VCALENDAR
VERSION:2.0
PRODID:icalendar-ruby
CALSCALE:GREGORIAN
BEGIN:VEVENT
DTSTAMP:20260420T190900Z
UID:e21269eb-cef4-4009-acb9-7aec3590d0f2
DTSTART;VALUE=DATE:20251203
DESCRIPTION:Property ID# 600508\, Time: 1:00PM
SUMMARY:Auction for 
END:VEVENT
END:VCALENDAR
