BEGIN:VCALENDAR
VERSION:2.0
PRODID:icalendar-ruby
CALSCALE:GREGORIAN
BEGIN:VEVENT
DTSTAMP:20260420T165402Z
UID:e9e1e717-9d29-4843-a4ae-f6c485fd18f0
DTSTART;VALUE=DATE:20260312
DESCRIPTION:Property ID# 599747\, Locatoin: 3 Deans Avenue\, Christchurch\,
  Time: 12:00PM
SUMMARY:Auction for 231 Jacksons Road
END:VEVENT
END:VCALENDAR
