BEGIN:VCALENDAR
VERSION:2.0
PRODID:icalendar-ruby
CALSCALE:GREGORIAN
BEGIN:VEVENT
DTSTAMP:20260420T165409Z
UID:7c7bb791-98d9-4368-ac1e-269659801ad4
DTSTART;VALUE=DATE:20251030
DESCRIPTION:Property ID# 598032\, Locatoin: 3 Deans Avenue\, Time: 12:00PM
SUMMARY:Auction for 
END:VEVENT
END:VCALENDAR
