BEGIN:VCALENDAR
VERSION:2.0
PRODID:icalendar-ruby
CALSCALE:GREGORIAN
BEGIN:VEVENT
DTSTAMP:20260424T104926Z
UID:5959c6e9-c227-4757-aaeb-90341f40067f
DTSTART;VALUE=DATE:20251007
DESCRIPTION:Property ID# 597348\, Time: 1:00PM
SUMMARY:Auction for 
END:VEVENT
END:VCALENDAR
