BEGIN:VCALENDAR
VERSION:2.0
PRODID:icalendar-ruby
CALSCALE:GREGORIAN
BEGIN:VEVENT
DTSTAMP:20260420T164412Z
UID:f3742340-0148-40bf-80b3-eb7334f68b23
DTSTART;VALUE=DATE:20250828
DESCRIPTION:Property ID# 595448\, Time: 12:00PM
SUMMARY:Auction for 
END:VEVENT
END:VCALENDAR
