BEGIN:VCALENDAR
VERSION:2.0
PRODID:icalendar-ruby
CALSCALE:GREGORIAN
BEGIN:VEVENT
DTSTAMP:20260420T164943Z
UID:c5f934bb-1911-4a0a-bad5-7d2634ed29eb
DTSTART;VALUE=DATE:20250501
DESCRIPTION:Property ID# 590371\, Locatoin: 3 Deans Avenue\, Christchurch\,
  Time: 12:00PM
SUMMARY:Auction for 
END:VEVENT
END:VCALENDAR
