BEGIN:VCALENDAR
VERSION:2.0
PRODID:icalendar-ruby
CALSCALE:GREGORIAN
BEGIN:VEVENT
DTSTAMP:20260423T015433Z
UID:13037d31-7461-4594-adf8-8844f1a4a455
DTSTART;VALUE=DATE:20240215
DESCRIPTION:Property ID# 568321\, Locatoin: Grenadier House\, 98 Moorhouse 
 Avenue (USP)\, Time: 11:00AM
SUMMARY:Auction for 
END:VEVENT
END:VCALENDAR
