BEGIN:VCALENDAR
VERSION:2.0
PRODID:icalendar-ruby
CALSCALE:GREGORIAN
BEGIN:VEVENT
DTSTAMP:20260419T220442Z
UID:dbd39e37-e249-44e3-a16c-d8cc1ed7939d
DTSTART;VALUE=DATE:20220526
DESCRIPTION:Property ID# 534284\, Time: 11:00AM
SUMMARY:Auction for 
END:VEVENT
END:VCALENDAR
