BEGIN:VCALENDAR
VERSION:2.0
PRODID:icalendar-ruby
CALSCALE:GREGORIAN
BEGIN:VEVENT
DTSTAMP:20260419T220309Z
UID:33e8d042-a093-4cd6-aeca-3da9dbed2d10
DTSTART;VALUE=DATE:20220310
DESCRIPTION:Property ID# 529020\, Locatoin: Ray White auction rooms\, Heref
 ord Street\, Christchurch\, Time: 12:00PM
SUMMARY:Auction for 
END:VEVENT
END:VCALENDAR
