BEGIN:VCALENDAR
VERSION:2.0
PRODID:icalendar-ruby
CALSCALE:GREGORIAN
BEGIN:VEVENT
DTSTAMP:20260419T214917Z
UID:e8034308-76e1-4d4b-8df3-60df9d81114a
DTSTART;VALUE=DATE:20211202
DESCRIPTION:Property ID# 521959\, Locatoin: Ray White Auction Rooms L2/76 H
 ereford Street\, Christchurch City (Not selling prior)\, Time: 11:00AM
SUMMARY:Auction for 
END:VEVENT
END:VCALENDAR
