BEGIN:VCALENDAR
VERSION:2.0
PRODID:icalendar-ruby
CALSCALE:GREGORIAN
BEGIN:VEVENT
DTSTAMP:20260420T232704Z
UID:e827ea12-34b3-4166-8071-ae6e1b572fe1
DTSTART;VALUE=DATE:20210401
DESCRIPTION:Property ID# 504161\, Time: 12:00PM
SUMMARY:Auction for 
END:VEVENT
END:VCALENDAR
